BEGIN:VCALENDAR
VERSION:2.0
PRODID:-//411 Seniors Centre Society - ECPv6.15.13.1//NONSGML v1.0//EN
CALSCALE:GREGORIAN
METHOD:PUBLISH
X-WR-CALNAME:411 Seniors Centre Society
X-ORIGINAL-URL:https://411seniors.org
X-WR-CALDESC:Events for 411 Seniors Centre Society
REFRESH-INTERVAL;VALUE=DURATION:PT1H
X-Robots-Tag:noindex
X-PUBLISHED-TTL:PT1H
BEGIN:VTIMEZONE
TZID:UTC
BEGIN:STANDARD
TZOFFSETFROM:+0000
TZOFFSETTO:+0000
TZNAME:UTC
DTSTART:20210101T000000
END:STANDARD
END:VTIMEZONE
BEGIN:VEVENT
DTSTART;TZID=UTC:20220430T100000
DTEND;TZID=UTC:20220430T120000
DTSTAMP:20260422T095849
CREATED:20220728T234355Z
LAST-MODIFIED:20220708T074029Z
UID:9870-1651312800-1651320000@411seniors.org
SUMMARY:Sample Event
DESCRIPTION:sample event \n 
URL:https://411seniors.org/event/iyengar-yoga-class/
LOCATION:Terminal Avenue
CATEGORIES:Workshop,Yoga
ATTACH;FMTTYPE=image/jpeg:https://411seniors.org/wp-content/uploads/2022/03/IyengarYoga.jpg
END:VEVENT
END:VCALENDAR