BEGIN:VCALENDAR
VERSION:2.0
PRODID:-//411 Seniors Centre Society - ECPv6.15.13.1//NONSGML v1.0//EN
CALSCALE:GREGORIAN
METHOD:PUBLISH
X-ORIGINAL-URL:https://411seniors.org
X-WR-CALDESC:Events for 411 Seniors Centre Society
REFRESH-INTERVAL;VALUE=DURATION:PT1H
X-Robots-Tag:noindex
X-PUBLISHED-TTL:PT1H
BEGIN:VTIMEZONE
TZID:UTC
BEGIN:STANDARD
TZOFFSETFROM:+0000
TZOFFSETTO:+0000
TZNAME:UTC
DTSTART:20210101T000000
END:STANDARD
END:VTIMEZONE
BEGIN:VEVENT
DTSTART;TZID=UTC:20220716T110000
DTEND;TZID=UTC:20220716T183000
DTSTAMP:20260419T154357
CREATED:20220713T231254Z
LAST-MODIFIED:20220713T231254Z
UID:11862-1657969200-1657996200@411seniors.org
SUMMARY:African Descent Festival
DESCRIPTION:Dear members\, \n411 Seniors Centre is going to participate this Saturday July 16th\, at the African Descent Festival from 10-4:00PM.\nwhere we are going to bring a sample of what 411 does in the community:\nMembers artist will display their art work\, membership sales\, Information about seniors’ benefits will be also available; most important\, this is a great opportunity to reconnect with you and enjoy together a fun activity. \nThe festival will take place in Thornton Park\, 1166 Main Street\, Vancouver ( Main street sky train station) \nWe invite you to stop by at the festival this Saturday. \nLooking forward to seeing you there! \nMonica Murguia
URL:https://411seniors.org/event/african-descent-festival/
CATEGORIES:Community Events
ATTACH;FMTTYPE=image/jpeg:https://411seniors.org/wp-content/uploads/2022/07/ADF_POSTER221.jpg
END:VEVENT
BEGIN:VEVENT
DTSTART;TZID=UTC:20220717T100000
DTEND;TZID=UTC:20220717T140000
DTSTAMP:20260419T154357
CREATED:20220716T013415Z
LAST-MODIFIED:20220716T013415Z
UID:11971-1658052000-1658066400@411seniors.org
SUMMARY:McAuley Pancake Breakfast public event
DESCRIPTION:  \nThis is a great opportunity for 411 to meet people from the community we serve; we will be in McAuley Park \nWhere: between Fraser\, Kingsway\, and East 15 Ave.
URL:https://411seniors.org/event/mcauley-pancake-breakfast-public-event/
LOCATION:McAuley Park\, 655 E 15th Ave\, British Columbia\, Vancouver\, BC\, V5T 2R6\, Canada
CATEGORIES:Community Events
END:VEVENT
END:VCALENDAR