BEGIN:VCALENDAR
VERSION:2.0
PRODID:-//411 Seniors Centre Society - ECPv6.15.13.1//NONSGML v1.0//EN
CALSCALE:GREGORIAN
METHOD:PUBLISH
X-ORIGINAL-URL:https://411seniors.org
X-WR-CALDESC:Events for 411 Seniors Centre Society
REFRESH-INTERVAL;VALUE=DURATION:PT1H
X-Robots-Tag:noindex
X-PUBLISHED-TTL:PT1H
BEGIN:VTIMEZONE
TZID:UTC
BEGIN:STANDARD
TZOFFSETFROM:+0000
TZOFFSETTO:+0000
TZNAME:UTC
DTSTART:20210101T000000
END:STANDARD
END:VTIMEZONE
BEGIN:VEVENT
DTSTART;VALUE=DATE:20220802
DTEND;VALUE=DATE:20220803
DTSTAMP:20260419T140909
CREATED:20220727T045859Z
LAST-MODIFIED:20220727T045859Z
UID:12097-1659398400-1659484799@411seniors.org
SUMMARY:British Columbia day
DESCRIPTION:The Centre will be closed\, reopening on Tuesday August 02
URL:https://411seniors.org/event/british-columbia-day/
ATTACH;FMTTYPE=image/jpeg:https://411seniors.org/wp-content/uploads/2022/07/Provincial-day-closure.jpg
END:VEVENT
BEGIN:VEVENT
DTSTART;TZID=UTC:20220808T180000
DTEND;TZID=UTC:20220808T193000
DTSTAMP:20260419T140909
CREATED:20220722T083855Z
LAST-MODIFIED:20220729T234707Z
UID:12074-1659981600-1659987000@411seniors.org
SUMMARY:Vancouver Mount Pleasant Mural Tour
DESCRIPTION:Vancouver Mount Pleasant Mural Tour \n\n6:00 pm – 7:30pm\nStarting point: 156 W8th Ave.\nLet’s get together and visit some of the favorite murals located in Mount Pleasant. For more information call 604 684 8171
URL:https://411seniors.org/event/vancouver-mount-pleasant-mural-tour/
LOCATION:156 W 8th Ave.\, Vancouver\, BC
CATEGORIES:Community Events
ATTACH;FMTTYPE=image/jpeg:https://411seniors.org/wp-content/uploads/2022/07/mural.jpg
END:VEVENT
BEGIN:VEVENT
DTSTART;TZID=UTC:20220819T100000
DTEND;TZID=UTC:20220819T140000
DTSTAMP:20260419T140909
CREATED:20220816T025304Z
LAST-MODIFIED:20220816T025304Z
UID:12221-1660903200-1660917600@411seniors.org
SUMMARY:Seniors in the park
DESCRIPTION:Join the Little Mountain Neighbourhood House for a lunch and fun activities.\nThe program is:\n10:15-11:30 activities Singing with ukulele\, line dancing and pole walking\n12 and 12:15 lunch distributed\n12:45 lucky draws\n1:30 wrap up
URL:https://411seniors.org/event/seniors-in-the-park/
LOCATION:Riley Park Community Garden\, 4601 Ontario St\, Vancouver\, BC\, V5V 3H4\, Canada
CATEGORIES:Community Events
END:VEVENT
BEGIN:VEVENT
DTSTART;TZID=UTC:20220820T130000
DTEND;TZID=UTC:20220820T150000
DTSTAMP:20260419T140909
CREATED:20220728T080938Z
LAST-MODIFIED:20220729T234234Z
UID:12108-1661000400-1661007600@411seniors.org
SUMMARY:BBQ for residents of Vancouver Kingsway
DESCRIPTION:411 has been invited to a barbecue primarily for residents of the Federal Riding of Vancouver Kingsway\nThis event is hosted by Don Davies Member of Parliament for Vancouver Kingsway
URL:https://411seniors.org/event/bbq-for-residents-of-vancouver-kingsway/
LOCATION:Grays Park\, 4850 St Catherines\, Vancouver\, BC\, V5V4M7\, Canada
CATEGORIES:Community Events
ATTACH;FMTTYPE=image/jpeg:https://411seniors.org/wp-content/uploads/2022/07/bbq.jpg
END:VEVENT
BEGIN:VEVENT
DTSTART;TZID=UTC:20220825T110000
DTEND;TZID=UTC:20220825T140000
DTSTAMP:20260419T140909
CREATED:20220722T090320Z
LAST-MODIFIED:20220729T234445Z
UID:12079-1661425200-1661436000@411seniors.org
SUMMARY:411 Seniors Centre  Multicultural BBQ (hot Dogs)
DESCRIPTION:Let’s get together to celebrate the summer in our new Fraser community!
URL:https://411seniors.org/event/411-seniors-centre-multicultural-bbq-hot-dogs/
LOCATION:McAuley Park\, 655 E 15th Ave\, British Columbia\, Vancouver\, BC\, V5T 2R6\, Canada
CATEGORIES:Community Events
ATTACH;FMTTYPE=image/jpeg:https://411seniors.org/wp-content/uploads/2022/07/hotdogs.jpeg
END:VEVENT
BEGIN:VEVENT
DTSTART;TZID=UTC:20220831T100000
DTEND;TZID=UTC:20220831T113000
DTSTAMP:20260419T140909
CREATED:20220824T041615Z
LAST-MODIFIED:20220824T043027Z
UID:12310-1661940000-1661945400@411seniors.org
SUMMARY:Preventing senior financial abuse workshop
DESCRIPTION:Workshop organized by S.U.C.C.E.S.S introducing what seniors financial abuse is and how to prevent it. Delivered in Mandarin. \n  \n  \n  \n  \n 
URL:https://411seniors.org/event/preventing-senior-financial-abuse-workshop/
LOCATION:Richmond Public Library\, BC
CATEGORIES:Community Events
ATTACH;FMTTYPE=image/jpeg:https://411seniors.org/wp-content/uploads/2022/08/Aug-31-Preventing-Senior-Financial-Abuse.jpg
END:VEVENT
END:VCALENDAR