BEGIN:VCALENDAR
VERSION:2.0
PRODID:-//411 Seniors Centre Society - ECPv6.15.13.1//NONSGML v1.0//EN
CALSCALE:GREGORIAN
METHOD:PUBLISH
X-ORIGINAL-URL:https://411seniors.org
X-WR-CALDESC:Events for 411 Seniors Centre Society
REFRESH-INTERVAL;VALUE=DURATION:PT1H
X-Robots-Tag:noindex
X-PUBLISHED-TTL:PT1H
BEGIN:VTIMEZONE
TZID:UTC
BEGIN:STANDARD
TZOFFSETFROM:+0000
TZOFFSETTO:+0000
TZNAME:UTC
DTSTART:20210101T000000
END:STANDARD
END:VTIMEZONE
BEGIN:VEVENT
DTSTART;TZID=UTC:20221218T163000
DTEND;TZID=UTC:20221226T170000
DTSTAMP:20260419T081908
CREATED:20221213T183830Z
LAST-MODIFIED:20221214T025048Z
UID:13061-1671381000-1672074000@411seniors.org
SUMMARY:The first night of Hanukah
DESCRIPTION:The eight-day Jewish celebration known as Hanukkah or Chanukah commemorates the rededication during the second century B.C. of the Second Temple in Jerusalem\, where according to legend Jews had risen up against their Greek-Syrian oppressors in the Maccabean Revolt. Hanukkah begins on the 25th of Kislev on the Hebrew calendar and usually falls in November or December. Hanukkah 2022 begins on the evening of Sunday\, December 18 and ends on the evening of Monday\, December 26. Often called the Festival of Lights\, the holiday is celebrated with the lighting of the menorah\, traditional foods\, games and gifts. \nfor more information: \nhttps://en.wikipedia.org/wiki/Hanukkah
URL:https://411seniors.org/event/the-first-night-of-hanukah/
CATEGORIES:Calendar,Community Events
ATTACH;FMTTYPE=image/jpeg:https://411seniors.org/wp-content/uploads/2022/12/IMG_0809-scaled-scaled.jpg
END:VEVENT
END:VCALENDAR