BEGIN:VCALENDAR
VERSION:2.0
PRODID:-//411 Seniors Centre Society - ECPv6.15.20//NONSGML v1.0//EN
CALSCALE:GREGORIAN
METHOD:PUBLISH
X-WR-CALNAME:411 Seniors Centre Society
X-ORIGINAL-URL:https://411seniors.org
X-WR-CALDESC:Events for 411 Seniors Centre Society
REFRESH-INTERVAL;VALUE=DURATION:PT1H
X-Robots-Tag:noindex
X-PUBLISHED-TTL:PT1H
BEGIN:VTIMEZONE
TZID:America/Vancouver
BEGIN:DAYLIGHT
TZOFFSETFROM:-0800
TZOFFSETTO:-0700
TZNAME:PDT
DTSTART:20230312T100000
END:DAYLIGHT
BEGIN:STANDARD
TZOFFSETFROM:-0700
TZOFFSETTO:-0800
TZNAME:PST
DTSTART:20231105T090000
END:STANDARD
BEGIN:DAYLIGHT
TZOFFSETFROM:-0800
TZOFFSETTO:-0700
TZNAME:PDT
DTSTART:20240310T100000
END:DAYLIGHT
BEGIN:STANDARD
TZOFFSETFROM:-0700
TZOFFSETTO:-0800
TZNAME:PST
DTSTART:20241103T090000
END:STANDARD
BEGIN:DAYLIGHT
TZOFFSETFROM:-0800
TZOFFSETTO:-0700
TZNAME:PDT
DTSTART:20250309T100000
END:DAYLIGHT
BEGIN:STANDARD
TZOFFSETFROM:-0700
TZOFFSETTO:-0800
TZNAME:PST
DTSTART:20251102T090000
END:STANDARD
END:VTIMEZONE
BEGIN:VEVENT
DTSTART;TZID=America/Vancouver:20240702T090000
DTEND;TZID=America/Vancouver:20240702T094500
DTSTAMP:20260425T150508
CREATED:20240625T183133Z
LAST-MODIFIED:20240924T183739Z
UID:18408-1719910800-1719913500@411seniors.org
SUMMARY:Tai-Chi
DESCRIPTION:To sign up for this program or other 411 Seniors programs\, visit our centre or contact us at 604-684-8171. \nNote:\n– Program classes that require an instructor: $2 per class if you buy a seasonal program card (July-September); $3 per class for a drop-in class\n– Program classes that do not require an instructor: No fee required – program class is free
URL:https://411seniors.org/event/tai-chi-18/
CATEGORIES:Calendar,Workshop
ATTACH;FMTTYPE=image/png:https://411seniors.org/wp-content/uploads/2023/07/pexels-wes-chuan-6723129.png
END:VEVENT
BEGIN:VEVENT
DTSTART;TZID=America/Vancouver:20241001T090000
DTEND;TZID=America/Vancouver:20241001T095500
DTSTAMP:20260425T150508
CREATED:20240927T235544Z
LAST-MODIFIED:20240927T235544Z
UID:19059-1727773200-1727776500@411seniors.org
SUMMARY:TAI CHI
DESCRIPTION:To sign up for this program or other 411 Seniors programs\, visit our centre or contact us at 604-684-8171. \n\nNote: \n\nProgram classes that require an instructor: $2 per class if you buy a seasonal program card (July – September); $3 per class for a drop-in class\nProgram classes that do not require an instructor: No fee required – program class is free
URL:https://411seniors.org/event/tai-chi-22/
CATEGORIES:Calendar
ATTACH;FMTTYPE=image/png:https://411seniors.org/wp-content/uploads/2024/02/Tai-Chi.png
END:VEVENT
BEGIN:VEVENT
DTSTART;TZID=America/Vancouver:20240702T100000
DTEND;TZID=America/Vancouver:20240702T113000
DTSTAMP:20260425T150508
CREATED:20240626T180343Z
LAST-MODIFIED:20240924T184456Z
UID:18429-1719914400-1719919800@411seniors.org
SUMMARY:Line Dancing - All Levels
DESCRIPTION:To sign up for this program or other 411 Seniors programs\, visit our centre or contact us at 604-684-8171. \nNote:\n– Program classes that require an instructor: $2 per class if you buy a seasonal program card (July – September); $3 per class for a drop-in class\n– Program classes that do not require an instructor: No fee required – program class is free
URL:https://411seniors.org/event/line-dancing-all-levels-3/
CATEGORIES:Calendar,Workshop
ATTACH;FMTTYPE=image/jpeg:https://411seniors.org/wp-content/uploads/2023/04/pexels-wellness-gallery-catalyst-foundation-12086688.jpg
END:VEVENT
BEGIN:VEVENT
DTSTART;TZID=America/Vancouver:20241001T100000
DTEND;TZID=America/Vancouver:20241001T113000
DTSTAMP:20260425T150508
CREATED:20240927T235710Z
LAST-MODIFIED:20240927T235710Z
UID:19061-1727776800-1727782200@411seniors.org
SUMMARY:LINE DANCING - ALL LEVELS
DESCRIPTION:To sign up for this program or other 411 Seniors programs\, visit our centre or contact us at 604-684-8171. \n\nNote: \n\nProgram classes that require an instructor: $2 per class if you buy a seasonal program card (July – September); $3 per class for a drop-in class\nProgram classes that do not require an instructor: No fee required – program class is free
URL:https://411seniors.org/event/line-dancing-all-levels-4/
CATEGORIES:Calendar
ATTACH;FMTTYPE=image/jpeg:https://411seniors.org/wp-content/uploads/2023/07/istockphoto-591985078-612x612-1.jpg
END:VEVENT
BEGIN:VEVENT
DTSTART;TZID=America/Vancouver:20241001T130000
DTEND;TZID=America/Vancouver:20241001T150000
DTSTAMP:20260425T150508
CREATED:20240925T160508Z
LAST-MODIFIED:20240925T160508Z
UID:18969-1727787600-1727794800@411seniors.org
SUMMARY:ARMCHAIR TRAVELER: INSIDE OLYMPIC STORIES
DESCRIPTION:INFORMED AND CONNECTED COFFEE DROP-IN presents: \nArmchair Traveler: Inside Olympic Stories by Gerry Dragomir \n  \n 
URL:https://411seniors.org/event/armchair-traveler-inside-olympic-stories/
CATEGORIES:Calendar,Workshop
END:VEVENT
BEGIN:VEVENT
DTSTART;TZID=America/Vancouver:20240704T153000
DTEND;TZID=America/Vancouver:20240704T183000
DTSTAMP:20260425T150508
CREATED:20240626T215006Z
LAST-MODIFIED:20240924T192936Z
UID:18479-1720107000-1720117800@411seniors.org
SUMMARY:MELT
DESCRIPTION:MELT (Meet\, Eat\, Learn\, and Teach)\nThe program is designed to offer seniors food skills\, subsidized meals and opportunities to socialize and meet new friends. \nTo sign up for this program or other 411 Seniors programs\, visit our centre or contact us at 604-684-8171. \nNote:\n– Program classes that require an instructor: $2 per class if you buy a seasonal program card (July – September); $3 per class for a drop-in class\n– Program classes that do not require an instructor: No fee required – program class is free
URL:https://411seniors.org/event/melt/
CATEGORIES:Calendar,Workshop
ATTACH;FMTTYPE=image/jpeg:https://411seniors.org/wp-content/uploads/2024/06/MELT-Teaching-scaled.jpeg
END:VEVENT
BEGIN:VEVENT
DTSTART;TZID=America/Vancouver:20241001T153000
DTEND;TZID=America/Vancouver:20241001T183000
DTSTAMP:20260425T150508
CREATED:20240927T235849Z
LAST-MODIFIED:20240927T235849Z
UID:19063-1727796600-1727807400@411seniors.org
SUMMARY:MELT(MEET\, EAT\, LEARN\, TEACH)
DESCRIPTION:To sign up for this program or other 411 Seniors programs\, visit our centre or contact us at 604-684-8171. \n\nNote: \n\nProgram classes that require an instructor: $2 per class if you buy a seasonal program card (July – September); $3 per class for a drop-in class\nProgram classes that do not require an instructor: No fee required – program class is free
URL:https://411seniors.org/event/meltmeet-eat-learn-teach/
ATTACH;FMTTYPE=image/jpeg:https://411seniors.org/wp-content/uploads/2024/06/MELT-Teaching-scaled.jpeg
END:VEVENT
BEGIN:VEVENT
DTSTART;TZID=America/Vancouver:20240904T090000
DTEND;TZID=America/Vancouver:20240904T095500
DTSTAMP:20260425T150508
CREATED:20240827T211750Z
LAST-MODIFIED:20240924T193823Z
UID:18891-1725440400-1725443700@411seniors.org
SUMMARY:French Conversation
DESCRIPTION:  \n\nWant to keep your brain as sharp as ever? Join us and learn to speak French in a relaxing and friendly environment! Study French vocabulary\, grammar\, colloquialisms & more. All levels welcome! \n\n\nTo sign up for this program or other 411 Seniors programs\, visit our centre or contact us at 604-684-8171. \nNote: \n\nProgram classes that require an instructor: $2 per class if you buy a seasonal program card (July – September); $3 per class for a drop-in class\nProgram classes that do not require an instructor: No fee required – program class is free
URL:https://411seniors.org/event/french-conversation-3/
CATEGORIES:Calendar
ATTACH;FMTTYPE=image/jpeg:https://411seniors.org/wp-content/uploads/2024/01/20240127_111217_HDR_1.jpeg
END:VEVENT
BEGIN:VEVENT
DTSTART;TZID=America/Vancouver:20241002T090000
DTEND;TZID=America/Vancouver:20241002T095500
DTSTAMP:20260425T150508
CREATED:20240925T220542Z
LAST-MODIFIED:20240925T220542Z
UID:19010-1727859600-1727862900@411seniors.org
SUMMARY:STANDING YOGA W/CHAIR
DESCRIPTION:To sign up for this program or other 411 Seniors programs\, visit our centre or contact us at 604-684-8171. \n\nNote: \n\nProgram classes that require an instructor: $2 per class if you buy a seasonal program card (July – September); $3 per class for a drop-in class\nProgram classes that do not require an instructor: No fee required – program class is free
URL:https://411seniors.org/event/standing-yoga-w-chair/
CATEGORIES:Calendar
END:VEVENT
BEGIN:VEVENT
DTSTART;TZID=America/Vancouver:20240703T100000
DTEND;TZID=America/Vancouver:20240703T110000
DTSTAMP:20260425T150508
CREATED:20240626T205313Z
LAST-MODIFIED:20240924T205755Z
UID:18456-1720000800-1720004400@411seniors.org
SUMMARY:Spanish Conversation - Beginner
DESCRIPTION:To sign up for this program or other 411 Seniors programs\, visit our centre or contact us at 604-684-8171. \nNote:\n– Program classes that require an instructor: $2 per class if you buy a seasonal program card (July – September); $3 per class for a drop-in class\n– Program classes that do not require an instructor: No fee required – program class is free
URL:https://411seniors.org/event/spanish-conversation-beginner-3/
CATEGORIES:Calendar,Workshop
ATTACH;FMTTYPE=image/jpeg:https://411seniors.org/wp-content/uploads/2024/05/WhatsApp-Image-2024-05-15-at-11.54.16_ae114e53.jpg
END:VEVENT
BEGIN:VEVENT
DTSTART;TZID=America/Vancouver:20241002T103000
DTEND;TZID=America/Vancouver:20241002T113000
DTSTAMP:20260425T150508
CREATED:20240925T221049Z
LAST-MODIFIED:20240925T221049Z
UID:19013-1727865000-1727868600@411seniors.org
SUMMARY:TECH CAFE DROP-IN
DESCRIPTION:  \n\nHaving trouble with your tech? Come join us at our tech café\, where you can have some one-on-one time with a tech savvy volunteer & Instructor to help solve some of your questions! Bring your own devices. \n\nTo sign up for this program or other 411 Seniors programs\, visit our centre or contact us at 604-684-8171. \nNote: \n\nProgram classes that require an instructor: $2 per class if you buy a seasonal program card (July – September); $3 per class for a drop-in class\nProgram classes that do not require an instructor: No fee required – program class is free
URL:https://411seniors.org/event/tech-cafe-drop-in-2/
CATEGORIES:Calendar,Workshop
END:VEVENT
BEGIN:VEVENT
DTSTART;TZID=America/Vancouver:20240703T110000
DTEND;TZID=America/Vancouver:20240703T120000
DTSTAMP:20260425T150508
CREATED:20240626T205808Z
LAST-MODIFIED:20240924T211351Z
UID:18458-1720004400-1720008000@411seniors.org
SUMMARY:Spanish Conversation - Intermediate
DESCRIPTION:To sign up for this program or other 411 Seniors programs\, visit our centre or contact us at 604-684-8171. \nNote:\n– Program classes that require an instructor: $2 per class if you buy a seasonal program card (July – September); $3 per class for a drop-in class\n– Program classes that do not require an instructor: No fee required – program class is free
URL:https://411seniors.org/event/spanish-conversation-intermediate-3/
CATEGORIES:Calendar
ATTACH;FMTTYPE=image/jpeg:https://411seniors.org/wp-content/uploads/2024/05/WhatsApp-Image-2024-05-15-at-11.54.16_ae114e53.jpg
END:VEVENT
BEGIN:VEVENT
DTSTART;TZID=America/Vancouver:20240703T120000
DTEND;TZID=America/Vancouver:20240703T130000
DTSTAMP:20260425T150508
CREATED:20240626T210207Z
LAST-MODIFIED:20240925T162430Z
UID:18460-1720008000-1720011600@411seniors.org
SUMMARY:Soup & Sandwiches ($5)
DESCRIPTION:To sign up for this program or other 411 Seniors programs\, visit our centre or contact us at 604-684-8171. \nNote:\n– Program classes that require an instructor: $2 per class if you buy a seasonal program card (July – September); $3 per class for a drop-in class\n– Program classes that do not require an instructor: No fee required – program class is free
URL:https://411seniors.org/event/soup-sandwiches-5-3/
CATEGORIES:9,Calendar
ATTACH;FMTTYPE=image/jpeg:https://411seniors.org/wp-content/uploads/2023/08/soupsandsandwich.jpg
END:VEVENT
BEGIN:VEVENT
DTSTART;TZID=America/Vancouver:20240703T133000
DTEND;TZID=America/Vancouver:20240703T143000
DTSTAMP:20260425T150508
CREATED:20240626T210842Z
LAST-MODIFIED:20240925T162606Z
UID:18463-1720013400-1720017000@411seniors.org
SUMMARY:Bingo\, Cards & Other Games
DESCRIPTION:To sign up for this program or other 411 Seniors programs\, visit our centre or contact us at 604-684-8171. \nNote:\n– Program classes that require an instructor: $2 per class if you buy a seasonal program card (July – September); $3 per class for a drop-in class\n– Program classes that do not require an instructor: No fee required – program class is free
URL:https://411seniors.org/event/bingo-cards-other-games-2/
CATEGORIES:Calendar,Workshop
ATTACH;FMTTYPE=image/jpeg:https://411seniors.org/wp-content/uploads/2023/11/cards.jpg
END:VEVENT
BEGIN:VEVENT
DTSTART;TZID=America/Vancouver:20240703T141500
DTEND;TZID=America/Vancouver:20240703T154500
DTSTAMP:20260425T150508
CREATED:20240626T211900Z
LAST-MODIFIED:20240925T163929Z
UID:18467-1720016100-1720021500@411seniors.org
SUMMARY:Ukulele - Beginner C
DESCRIPTION:To sign up for this program or other 411 Seniors programs\, visit our centre or contact us at 604-684-8171. \nNote:\n– Program classes that require an instructor: $2 per class if you buy a seasonal program card (July – September); $3 per class for a drop-in class\n– Program classes that do not require an instructor: No fee required – program class is free
URL:https://411seniors.org/event/ukulele-beginner-c-3/
CATEGORIES:2o,Calendar,Workshop
ATTACH;FMTTYPE=image/jpeg:https://411seniors.org/wp-content/uploads/2023/04/pexels-cottonbro-studio-4115010.jpg
END:VEVENT
BEGIN:VEVENT
DTSTART;TZID=America/Vancouver:20240905T090000
DTEND;TZID=America/Vancouver:20240905T095500
DTSTAMP:20260425T150508
CREATED:20240827T182710Z
LAST-MODIFIED:20240925T164914Z
UID:18874-1725526800-1725530100@411seniors.org
SUMMARY:Tai-Chi
DESCRIPTION:To sign up for this program or other 411 Seniors programs\, visit our centre or contact us at 604-684-8171. \nNote:\n– Program classes that require an instructor: $2 per class if you buy a seasonal program card (July-September); $3 per class for a drop-in class\n– Program classes that do not require an instructor: No fee required – program class is free
URL:https://411seniors.org/event/tai-chi-20/
CATEGORIES:Calendar,Workshop
ATTACH;FMTTYPE=image/png:https://411seniors.org/wp-content/uploads/2023/07/pexels-wes-chuan-6723129.png
END:VEVENT
BEGIN:VEVENT
DTSTART;TZID=America/Vancouver:20240704T100000
DTEND;TZID=America/Vancouver:20240704T113000
DTSTAMP:20260425T150508
CREATED:20240626T212946Z
LAST-MODIFIED:20240925T165302Z
UID:18469-1720087200-1720092600@411seniors.org
SUMMARY:Cardio Exercise
DESCRIPTION:To sign up for this program or other 411 Seniors programs\, visit our centre or contact us at 604-684-8171. \nNote:\n– Program classes that require an instructor: $2 per class if you buy a seasonal program card (July – September); $3 per class for a drop-in class\n– Program classes that do not require an instructor: No fee required – program class is free
URL:https://411seniors.org/event/cardio-exercise-zumba-3/
CATEGORIES:Calendar,Workshop
END:VEVENT
BEGIN:VEVENT
DTSTART;TZID=America/Vancouver:20241003T114500
DTEND;TZID=America/Vancouver:20241003T124500
DTSTAMP:20260425T150508
CREATED:20240925T175456Z
LAST-MODIFIED:20240925T175456Z
UID:18983-1727955900-1727959500@411seniors.org
SUMMARY:MOVEMENT\, BALANCE AND STRENGTH
DESCRIPTION:To sign up for this program or other 411 Seniors programs\, visit our centre or contact us at 604-684-8171. \nNote:\n– Program classes that require an instructor: $2 per class if you buy a seasonal program card (July – September); $3 per class for a drop-in class\n– Program classes that do not require an instructor: No fee required – program class is free
URL:https://411seniors.org/event/movement-balance-and-strength/
CATEGORIES:Calendar
END:VEVENT
BEGIN:VEVENT
DTSTART;TZID=America/Vancouver:20240919T124500
DTEND;TZID=America/Vancouver:20240919T140000
DTSTAMP:20260425T150508
CREATED:20240828T211521Z
LAST-MODIFIED:20240925T174401Z
UID:18906-1726749900-1726754400@411seniors.org
SUMMARY:DROP-IN PING PONG
DESCRIPTION:To sign up for this program or other 411 Seniors programs\, visit our centre or contact us at 604-684-8171. \nNote: \n\nProgram classes that require an instructor: $2 per class if you buy a seasonal program card (July – September); $3 per class for a drop-in class\nProgram classes that do not require an instructor: No fee required – program class is free
URL:https://411seniors.org/event/drop-in-ping-pong-4/
CATEGORIES:Calendar
ATTACH;FMTTYPE=image/png:https://411seniors.org/wp-content/uploads/2024/03/pingpong.png
END:VEVENT
BEGIN:VEVENT
DTSTART;TZID=America/Vancouver:20240704T130000
DTEND;TZID=America/Vancouver:20240704T150000
DTSTAMP:20260425T150508
CREATED:20240626T214358Z
LAST-MODIFIED:20240925T174535Z
UID:18477-1720098000-1720105200@411seniors.org
SUMMARY:Drop-In Coffee Social Group at Kingsgate Mall
DESCRIPTION:To sign up for this program or other 411 Seniors programs\, visit our centre or contact us at 604-684-8171. \nNote:\n– Program classes that require an instructor: $2 per class if you buy a seasonal program card (July – September); $3 per class for a drop-in class\n– Program classes that do not require an instructor: No fee required – program class is free
URL:https://411seniors.org/event/drop-in-coffee-social-group-at-kingsgate-mall-3/
CATEGORIES:Calendar
ATTACH;FMTTYPE=image/jpeg:https://411seniors.org/wp-content/uploads/2022/12/pexels-viktoria-alipatova-2074130-scaled-scaled.jpg
END:VEVENT
BEGIN:VEVENT
DTSTART;TZID=America/Vancouver:20240704T130000
DTEND;TZID=America/Vancouver:20240704T160000
DTSTAMP:20260425T150508
CREATED:20240626T213812Z
LAST-MODIFIED:20240925T174956Z
UID:18474-1720098000-1720108800@411seniors.org
SUMMARY:Mahjong
DESCRIPTION:To sign up for this program or other 411 Seniors programs\, visit our centre or contact us at 604-684-8171. \nNote:\n– Program classes that require an instructor: $2 per class if you buy a seasonal program card (July – September); $3 per class for a drop-in class\n– Program classes that do not require an instructor: No fee required – program class is free
URL:https://411seniors.org/event/mahjong-4/
CATEGORIES:Calendar,Workshop
ATTACH;FMTTYPE=image/png:https://411seniors.org/wp-content/uploads/2023/07/Screen-Shot-2023-07-27-at-11.06.07-AM.png
END:VEVENT
BEGIN:VEVENT
DTSTART;TZID=America/Vancouver:20241003T133000
DTEND;TZID=America/Vancouver:20241003T150000
DTSTAMP:20260425T150508
CREATED:20240925T183442Z
LAST-MODIFIED:20240925T183442Z
UID:19006-1727962200-1727967600@411seniors.org
SUMMARY:RAINBOW COFFEE
DESCRIPTION:To sign up for this program or other 411 Seniors programs\, visit our centre or contact us at 604-684-8171. \n\nNote: \n\nProgram classes that require an instructor: $2 per class if you buy a seasonal program card (July – September); $3 per class for a drop-in class\nProgram classes that do not require an instructor: No fee required – program class is free
URL:https://411seniors.org/event/rainbow-coffee/
CATEGORIES:Calendar,Community Events
END:VEVENT
BEGIN:VEVENT
DTSTART;TZID=America/Vancouver:20241003T140000
DTEND;TZID=America/Vancouver:20241003T160000
DTSTAMP:20260425T150508
CREATED:20240925T174725Z
LAST-MODIFIED:20240925T174809Z
UID:18980-1727964000-1727971200@411seniors.org
SUMMARY:MOVIE MATINEE
DESCRIPTION:To sign up for this program or other 411 Seniors programs\, visit our centre or contact us at 604-684-8171. \nNote:\n– Program classes that require an instructor: $2 per class if you buy a seasonal program card (July – September); $3 per class for a drop-in class\n– Program classes that do not require an instructor: No fee required – program class is free
URL:https://411seniors.org/event/movie-matinee-5/
CATEGORIES:Calendar,Community Events
ATTACH;FMTTYPE=image/png:https://411seniors.org/wp-content/uploads/2024/06/Movie_Matinee_Image_1_optimized_1000.png
END:VEVENT
BEGIN:VEVENT
DTSTART;TZID=America/Vancouver:20240704T153000
DTEND;TZID=America/Vancouver:20240704T183000
DTSTAMP:20260425T150508
CREATED:20240626T215006Z
LAST-MODIFIED:20240924T192936Z
UID:18479-1720107000-1720117800@411seniors.org
SUMMARY:MELT
DESCRIPTION:MELT (Meet\, Eat\, Learn\, and Teach)\nThe program is designed to offer seniors food skills\, subsidized meals and opportunities to socialize and meet new friends. \nTo sign up for this program or other 411 Seniors programs\, visit our centre or contact us at 604-684-8171. \nNote:\n– Program classes that require an instructor: $2 per class if you buy a seasonal program card (July – September); $3 per class for a drop-in class\n– Program classes that do not require an instructor: No fee required – program class is free
URL:https://411seniors.org/event/melt/
CATEGORIES:Calendar,Workshop
ATTACH;FMTTYPE=image/jpeg:https://411seniors.org/wp-content/uploads/2024/06/MELT-Teaching-scaled.jpeg
END:VEVENT
BEGIN:VEVENT
DTSTART;TZID=America/Vancouver:20241004T093000
DTEND;TZID=America/Vancouver:20241004T103000
DTSTAMP:20260425T150508
CREATED:20240926T213924Z
LAST-MODIFIED:20240926T213924Z
UID:19023-1728034200-1728037800@411seniors.org
SUMMARY:MEDITATION (WISDOM IN THE GARDEN)
DESCRIPTION:To sign up for this program or other 411 Seniors programs\, visit our centre or contact us at 604-684-8171. \n\nNote: \n\nProgram classes that require an instructor: $2 per class if you buy a seasonal program card (July – September); $3 per class for a drop-in class\nProgram classes that do not require an instructor: No fee required – program class is free
URL:https://411seniors.org/event/meditation-wisdom-in-the-garden/
CATEGORIES:Calendar,Workshop
END:VEVENT
BEGIN:VEVENT
DTSTART;TZID=America/Vancouver:20240705T110000
DTEND;TZID=America/Vancouver:20240705T123000
DTSTAMP:20260425T150508
CREATED:20240627T154424Z
LAST-MODIFIED:20240925T222140Z
UID:18504-1720177200-1720182600@411seniors.org
SUMMARY:DANCE WORKOUT
DESCRIPTION:To sign up for this program or other 411 Seniors programs\, visit our centre or contact us at 604-684-8171. Note: – Program classes that require an instructor: $2 per class if you buy a seasonal program card (July – September); $3 per class for a drop-in class – Program classes that do not require an instructor: No fee required – program class is free
URL:https://411seniors.org/event/dance-workout-8/
CATEGORIES:Calendar
ATTACH;FMTTYPE=image/jpeg:https://411seniors.org/wp-content/uploads/2023/07/istockphoto-591985078-612x612-1.jpg
END:VEVENT
BEGIN:VEVENT
DTSTART;TZID=America/Vancouver:20240703T120000
DTEND;TZID=America/Vancouver:20240703T130000
DTSTAMP:20260425T150508
CREATED:20240626T210207Z
LAST-MODIFIED:20240925T162430Z
UID:18460-1720008000-1720011600@411seniors.org
SUMMARY:Soup & Sandwiches ($5)
DESCRIPTION:To sign up for this program or other 411 Seniors programs\, visit our centre or contact us at 604-684-8171. \nNote:\n– Program classes that require an instructor: $2 per class if you buy a seasonal program card (July – September); $3 per class for a drop-in class\n– Program classes that do not require an instructor: No fee required – program class is free
URL:https://411seniors.org/event/soup-sandwiches-5-3/
CATEGORIES:9,Calendar
ATTACH;FMTTYPE=image/jpeg:https://411seniors.org/wp-content/uploads/2023/08/soupsandsandwich.jpg
END:VEVENT
BEGIN:VEVENT
DTSTART;TZID=America/Vancouver:20240705T130000
DTEND;TZID=America/Vancouver:20240705T140000
DTSTAMP:20260425T150508
CREATED:20240627T155408Z
LAST-MODIFIED:20240925T222300Z
UID:18511-1720184400-1720188000@411seniors.org
SUMMARY:GUITAR LESSONS
DESCRIPTION:To sign up for this program or other 411 Seniors programs\, visit our centre or contact us at 604-684-8171. Note: – Program classes that require an instructor: $2 per class if you buy a seasonal program card (July – September); $3 per class for a drop-in class – Program classes that do not require an instructor: No fee required – program class is free
URL:https://411seniors.org/event/gutiar-lessons/
CATEGORIES:Calendar
ATTACH;FMTTYPE=image/jpeg:https://411seniors.org/wp-content/uploads/2023/08/guitar.jpg
END:VEVENT
BEGIN:VEVENT
DTSTART;TZID=America/Vancouver:20240705T140000
DTEND;TZID=America/Vancouver:20240705T140000
DTSTAMP:20260425T150508
CREATED:20240627T162507Z
LAST-MODIFIED:20240925T222358Z
UID:18519-1720188000-1720188000@411seniors.org
SUMMARY:WALKING CLUB
DESCRIPTION:Please Note:  END TIMES VARY\n\nTo sign up for this program or other 411 Seniors programs\, visit our centre or contact us at 604-684-8171. \nNote: \n\nProgram classes that require an instructor: $2 per class if you buy a seasonal program card (July – September); $3 per class for a drop-in class\nProgram classes that do not require an instructor: No fee required – program class is free
URL:https://411seniors.org/event/walking-club-8-2/
CATEGORIES:Calendar
ATTACH;FMTTYPE=image/jpeg:https://411seniors.org/wp-content/uploads/2023/04/pexels-rachel-claire-7276613.jpg
END:VEVENT
BEGIN:VEVENT
DTSTART;TZID=America/Vancouver:20240705T143000
DTEND;TZID=America/Vancouver:20240705T153000
DTSTAMP:20260425T150508
CREATED:20240627T155019Z
LAST-MODIFIED:20240925T222512Z
UID:18509-1720189800-1720193400@411seniors.org
SUMMARY:UKULELE SING-ALONG CIRCLE
DESCRIPTION:To sign up for this program or other 411 Seniors programs\, visit our centre or contact us at 604-684-8171. Note: – Program classes that require an instructor: $2 per class if you buy a seasonal program card (July – September); $3 per class for a drop-in class – Program classes that do not require an instructor: No fee required – program class is free
URL:https://411seniors.org/event/ukulele-sing-along-circle-6/
CATEGORIES:Calendar
ATTACH;FMTTYPE=image/jpeg:https://411seniors.org/wp-content/uploads/2023/04/pexels-cottonbro-studio-4115010.jpg
END:VEVENT
END:VCALENDAR